BEGIN:VCALENDAR
VERSION:2.0
PRODID:-//EGU Elektro Großhandels Union Rhein-Ruhr - ECPv6.15.20//NONSGML v1.0//EN
CALSCALE:GREGORIAN
METHOD:PUBLISH
X-ORIGINAL-URL:https://egu.de
X-WR-CALDESC:Veranstaltungen für EGU Elektro Großhandels Union Rhein-Ruhr
REFRESH-INTERVAL;VALUE=DURATION:PT1H
X-Robots-Tag:noindex
X-PUBLISHED-TTL:PT1H
BEGIN:VTIMEZONE
TZID:Europe/Berlin
BEGIN:DAYLIGHT
TZOFFSETFROM:+0100
TZOFFSETTO:+0200
TZNAME:CEST
DTSTART:20250330T010000
END:DAYLIGHT
BEGIN:STANDARD
TZOFFSETFROM:+0200
TZOFFSETTO:+0100
TZNAME:CET
DTSTART:20251026T010000
END:STANDARD
BEGIN:DAYLIGHT
TZOFFSETFROM:+0100
TZOFFSETTO:+0200
TZNAME:CEST
DTSTART:20260329T010000
END:DAYLIGHT
BEGIN:STANDARD
TZOFFSETFROM:+0200
TZOFFSETTO:+0100
TZNAME:CET
DTSTART:20261025T010000
END:STANDARD
BEGIN:DAYLIGHT
TZOFFSETFROM:+0100
TZOFFSETTO:+0200
TZNAME:CEST
DTSTART:20270328T010000
END:DAYLIGHT
BEGIN:STANDARD
TZOFFSETFROM:+0200
TZOFFSETTO:+0100
TZNAME:CET
DTSTART:20271031T010000
END:STANDARD
END:VTIMEZONE
BEGIN:VEVENT
DTSTART;TZID=Europe/Berlin:20260423T073000
DTEND;TZID=Europe/Berlin:20260423T140000
DTSTAMP:20260420T032102
CREATED:20260217T080004Z
LAST-MODIFIED:20260217T080004Z
UID:17141-1776929400-1776952800@egu.de
SUMMARY:EGU Thementag in Hattingen – Metrel
DESCRIPTION:Sehr geehrter Kunde\, \nwir laden Sie herzlich zu unserem Thementag mit der Firma Metrel in der Niederlassung Hattingen ein. \nInformieren Sie sich über Messgeräte\, Neuheiten und aktuelle Themen.\nFür einen kleinen Snack ist in Form von Grillwurst und Getränken gesorgt. \nWir freuen uns auf Sie!
URL:https://egu.de/veranstaltung/egu-thementag-in-hattingen-metrel/
LOCATION:EGU Niederlassung Hattingen\, Eickener Str. 71\, Hattingen\, 45525
CATEGORIES:Thekentage
ATTACH;FMTTYPE=image/jpeg:https://egu.de/wp-content/uploads/2026/02/Thementag-Metrel-04-26-HAT_WEB.jpg
END:VEVENT
BEGIN:VEVENT
DTSTART;TZID=Europe/Berlin:20260427T083000
DTEND;TZID=Europe/Berlin:20260427T160000
DTSTAMP:20260420T032102
CREATED:20260113T123732Z
LAST-MODIFIED:20260331T053337Z
UID:16965-1777278600-1777305600@egu.de
SUMMARY:Sungrow Schulung: SHOW- & TRAININGSROOM - AUSGEBUCHT
DESCRIPTION:BASTI’S LEGENDÄRER SUNGROW SHOW- & TRAININGSROOM \nEintreffen ab 08:30 Uhr\nStart um 09:00 Uhr – 16:00 Uhr \nProgramm-Highlights: \n\nVorstellung SHxxT\, Wallbox & iHomeManager\nPraktische Inbetriebnahme aller Systeme\nTipps & Tricks zur Störungsbeseitigung\nEinführung ins Ticketsystem\n\nMittagessen & Getränke inklusive \nAUSGEBUCHT
URL:https://egu.de/veranstaltung/sungrow-schulung-show-trainingsroom-27-04-2026/
LOCATION:Bachstraße 5\, 58579 Schalksmühle\, Bachstraße 5\, Schalksmühle\, NRW\, 58579\, Germany
CATEGORIES:Schulungen & Weiterbildungen
ATTACH;FMTTYPE=image/jpeg:https://egu.de/wp-content/uploads/2026/03/Sungrow-Schulung-2026-WEB-ausgebucht.jpg
END:VEVENT
END:VCALENDAR